BEGIN:VCALENDAR
VERSION:2.0
PRODID:-//Plone.org//NONSGML plone.app.event//EN
X-WR-TIMEZONE:Europe/Madrid
BEGIN:VEVENT
SUMMARY:Concert de Banda
DTSTART;TZID=Europe/Madrid;VALUE=DATE-TIME:20170228T193000
DTEND;TZID=Europe/Madrid;VALUE=DATE-TIME:20170228T203000
DTSTAMP;VALUE=DATE-TIME:20260420T175908Z
UID:d458bf292d66c79e94714c66a75d8c27
CREATED;VALUE=DATE-TIME:20170228T000000Z
CATEGORIES:Festa
LOCATION:Pati del C.C.Calisay - Riera del Pare Fita, 31
ORGANIZER:Escola Municipal Carles G. Vidiella i Regidoria de Festes
DESCRIPTION:a càrrec de la Banda de l'Escola Municipal de Música Carles G. Vidiella
URL:https://arenysdemar.cat/document.php?id=32472
END:VEVENT
END:VCALENDAR