BEGIN:VCALENDAR
VERSION:2.0
PRODID:-//Plone.org//NONSGML plone.app.event//EN
X-WR-TIMEZONE:Europe/Madrid
BEGIN:VEVENT
SUMMARY:Escudella de recapte
DTSTART;TZID=Europe/Madrid;VALUE=DATE-TIME:20170228T200000
DTEND;TZID=Europe/Madrid;VALUE=DATE-TIME:20170228T210000
DTSTAMP;VALUE=DATE-TIME:20260420T175938Z
UID:bc88d416a6ebfbdcea886a86304bd7a7
CREATED;VALUE=DATE-TIME:20170228T000000Z
CATEGORIES:Festa
LOCATION:al C.C.Calisay
ORGANIZER:Agrupament Escolta i Guia Flos i Calcat i Regidoria de Festes
DESCRIPTION:Porta el plat i la cullera i vine a provar l'escudella
URL:https://arenysdemar.cat/document.php?id=32474
END:VEVENT
END:VCALENDAR