BEGIN:VCALENDAR
VERSION:2.0
PRODID:-//Plone.org//NONSGML plone.app.event//EN
X-WR-TIMEZONE:Europe/Madrid
BEGIN:VEVENT
SUMMARY:Ball de Carnaval de la Gent Gran
DTSTART;TZID=Europe/Madrid;VALUE=DATE-TIME:20170226T170000
DTEND;TZID=Europe/Madrid;VALUE=DATE-TIME:20170226T180000
DTSTAMP;VALUE=DATE-TIME:20260420T125423Z
UID:938ecf14d56699817dde2c8fec121cff
CREATED;VALUE=DATE-TIME:20170226T000000Z
CATEGORIES:Dansa
LOCATION:Sala Polivalent del C.C.Calisay - Riera Pare Fita, 31
ORGANIZER:Vocalia de Jubilats, L'Esplai, Aula d'Extensió Universitària i Regidoria de Gent Gran
DESCRIPTION:ACTIVITAT SUSPESA
URL:https://arenysdemar.cat/document.php?id=32484
END:VEVENT
END:VCALENDAR