BEGIN:VCALENDAR
VERSION:2.0
PRODID:-//Plone.org//NONSGML plone.app.event//EN
X-WR-TIMEZONE:Europe/Madrid
BEGIN:VEVENT
SUMMARY:Ball del dissabte
DTSTART;TZID=Europe/Madrid;VALUE=DATE-TIME:20170204T223000
DTEND;TZID=Europe/Madrid;VALUE=DATE-TIME:20170204T233000
DTSTAMP;VALUE=DATE-TIME:20260419T152920Z
UID:a62e8010a5b49596f850718dd2be2b7e
CREATED;VALUE=DATE-TIME:20170204T000000Z
CATEGORIES:Música
LOCATION:Ateneu Arenyenc - Anselm Clavé, 22
ORGANIZER:Ateneu Arenyenc
COMMENT:Preu: Soci 5 euros i no soci 7 euros
DESCRIPTION:amb l'actuació d'Aurora Duet
URL:https://arenysdemar.cat/document.php?id=32492
END:VEVENT
END:VCALENDAR