BEGIN:VCALENDAR
VERSION:2.0
PRODID:-//Plone.org//NONSGML plone.app.event//EN
X-WR-TIMEZONE:Europe/Madrid
BEGIN:VEVENT
SUMMARY:Excursió a Cantera Romana del Mèdol, Tarragona i Valls
DTSTART;TZID=Europe/Madrid;VALUE=DATE-TIME:20170216T080000
DTEND;TZID=Europe/Madrid;VALUE=DATE-TIME:20170216T090000
DTSTAMP;VALUE=DATE-TIME:20260423T192319Z
UID:9ebb24f4eddfa8321a0612fda66bc0b7
CREATED;VALUE=DATE-TIME:20170216T000000Z
LOCATION:sortida de la Riera, davant del C.C. Calisay
ORGANIZER:Esplai de la Gent Gran
COMMENT:Preu: 42 euros
URL:https://arenysdemar.cat/document.php?id=32493
END:VEVENT
END:VCALENDAR