BEGIN:VCALENDAR
VERSION:2.0
PRODID:-//Plone.org//NONSGML plone.app.event//EN
X-WR-TIMEZONE:Europe/Madrid
BEGIN:VEVENT
SUMMARY:Learning with books. Advanced. The true History of the kelly Gang, by Peter Carey
DTSTART;TZID=Europe/Madrid;VALUE=DATE-TIME:20170224T200000
DTEND;TZID=Europe/Madrid;VALUE=DATE-TIME:20170224T210000
DTSTAMP;VALUE=DATE-TIME:20260421T201019Z
UID:2f7fee78008748953dbcf83cc86aa503
CREATED;VALUE=DATE-TIME:20170224T000000Z
CATEGORIES:Literatura
LOCATION:Sala d'Actes de la Biblioteca - C. Bonaire, 2
ORGANIZER:Biblioteca - Regidoria de Cultura i Sakkara Viatges
DESCRIPTION:a càrrec de Manuel Delgado
URL:https://arenysdemar.cat/document.php?id=32494
END:VEVENT
END:VCALENDAR