BEGIN:VCALENDAR
VERSION:2.0
PRODID:-//Plone.org//NONSGML plone.app.event//EN
X-WR-TIMEZONE:Europe/Madrid
BEGIN:VEVENT
SUMMARY:Sortida Cultural a Sitges
DTSTART;TZID=Europe/Madrid;VALUE=DATE-TIME:20170218T090000
DTEND;TZID=Europe/Madrid;VALUE=DATE-TIME:20170218T100000
DTSTAMP;VALUE=DATE-TIME:20260423T115053Z
UID:4132bd789c0726b1e71300aeeeac990e
CREATED;VALUE=DATE-TIME:20170218T000000Z
CATEGORIES:Exposició
LOCATION:Davant estació Renfe (Autocar)
ORGANIZER:Ateneu Arenyenc
COMMENT:Preu: Socis 45 euros i no socis 50 euros (autocar i dinar inclòs)
DESCRIPTION:Visita guiada a l'exposició: Ramon Casas: La modernitat anhelada
URL:https://arenysdemar.cat/document.php?id=32508
END:VEVENT
END:VCALENDAR