BEGIN:VCALENDAR
VERSION:2.0
PRODID:-//Plone.org//NONSGML plone.app.event//EN
X-WR-TIMEZONE:Europe/Madrid
BEGIN:VEVENT
SUMMARY:Fira de Brocanters
DTSTART;TZID=Europe/Madrid;VALUE=DATE-TIME:20170212T100000
DTEND;TZID=Europe/Madrid;VALUE=DATE-TIME:20170212T110000
DTSTAMP;VALUE=DATE-TIME:20260423T181457Z
UID:9d5704fc58d3249108ce5d98b1e980d1
CREATED;VALUE=DATE-TIME:20170212T000000Z
CATEGORIES:Mostra
LOCATION:Riera, davant del C.C. Calisay
ORGANIZER:Associació Col·leccionisme Nou i Vell (Crisàlide)
COMMENT:Durada: fins a les 3 de la tarda
URL:https://arenysdemar.cat/document.php?id=32511
END:VEVENT
END:VCALENDAR