BEGIN:VCALENDAR
VERSION:2.0
PRODID:-//Plone.org//NONSGML plone.app.event//EN
X-WR-TIMEZONE:Europe/Madrid
BEGIN:VEVENT
SUMMARY:Paradís pintat
DTSTART;TZID=Europe/Madrid;VALUE=DATE-TIME:20170312T190000
DTEND;TZID=Europe/Madrid;VALUE=DATE-TIME:20170312T200000
DTSTAMP;VALUE=DATE-TIME:20260420T144914Z
UID:a28dc3a5a90e16efa245e6ed76ed37d6
CREATED;VALUE=DATE-TIME:20170312T000000Z
CATEGORIES:Teatre
LOCATION:Teatre Principal - C. Església, 45-47
ORGANIZER:S.C.L'Esperança i Regidoria de Cultura
COMMENT:Preu: 10 euros anticipada, 12 euros taquilla i 8 euros socis
DESCRIPTION:a càrrec de la Cia. Pepa Plana
URL:https://arenysdemar.cat/document.php?id=32517
END:VEVENT
END:VCALENDAR