BEGIN:VCALENDAR
VERSION:2.0
PRODID:-//Plone.org//NONSGML plone.app.event//EN
X-WR-TIMEZONE:Europe/Madrid
BEGIN:VEVENT
SUMMARY:Big Band d'Arenys
DTSTART;TZID=Europe/Madrid;VALUE=DATE-TIME:20170325T210000
DTEND;TZID=Europe/Madrid;VALUE=DATE-TIME:20170325T220000
DTSTAMP;VALUE=DATE-TIME:20260420T171102Z
UID:b55ba243196a463cc548bda24fc34ca0
CREATED;VALUE=DATE-TIME:20170325T000000Z
CATEGORIES:Música
LOCATION:Teatre Principal - C. Església, 45-47
ORGANIZER:S.C.L'Esperança, Regidoria de Cultura i EMA
COMMENT:Preu: 6 euros anticipada,7 euros taquilla i 5 euros socis
DESCRIPTION:Escola de Música d'Arenys de Mar
URL:https://arenysdemar.cat/document.php?id=32519
END:VEVENT
END:VCALENDAR