BEGIN:VCALENDAR
VERSION:2.0
PRODID:-//Plone.org//NONSGML plone.app.event//EN
X-WR-TIMEZONE:Europe/Madrid
BEGIN:VEVENT
SUMMARY:Hora del Conte: Em diuen Tano
DTSTART;TZID=Europe/Madrid;VALUE=DATE-TIME:20170216T180000
DTEND;TZID=Europe/Madrid;VALUE=DATE-TIME:20170216T190000
DTSTAMP;VALUE=DATE-TIME:20260423T181355Z
UID:e991b32bc5746a34853de181b8085c74
CREATED;VALUE=DATE-TIME:20170216T000000Z
CATEGORIES:Literatura,Infantils
LOCATION:Sala d'Actes de la Biblioteca - C. Bonaire, 2
ORGANIZER:Biblioteca - Regidoria de Cultura, El Cep i la Nansa Editorial
DESCRIPTION:El ruc Tano visita la Biblioteca i ens explica un conte. A càrrec de Joan Companyó i Lola Casas. Amb la presència de l'equip de televisió de l'InfoK de la Televisió de Catalunya
URL:https://arenysdemar.cat/document.php?id=32536
END:VEVENT
END:VCALENDAR