BEGIN:VCALENDAR
VERSION:2.0
PRODID:-//Plone.org//NONSGML plone.app.event//EN
X-WR-TIMEZONE:Europe/Madrid
BEGIN:VEVENT
SUMMARY:Through The Looking-Glass
DTSTART;TZID=Europe/Madrid;VALUE=DATE-TIME:20170408T210000
DTEND;TZID=Europe/Madrid;VALUE=DATE-TIME:20170408T220000
DTSTAMP;VALUE=DATE-TIME:20260424T094145Z
UID:c933b9cf3b4ffce34f2d681f3cf3a602
CREATED;VALUE=DATE-TIME:20170408T000000Z
CATEGORIES:Música
LOCATION:Teatre Principal - C. Església, 45-47
ORGANIZER:S.C.L'Esperança i Regidoria de Cultura
COMMENT:Preu: 10 euros anticipada, 12 euros taquilla i 8 euros socis
DESCRIPTION:a càrrec del Grup Alenky
URL:https://arenysdemar.cat/document.php?id=32539
END:VEVENT
END:VCALENDAR