BEGIN:VCALENDAR
VERSION:2.0
PRODID:-//Plone.org//NONSGML plone.app.event//EN
X-WR-TIMEZONE:Europe/Madrid
BEGIN:VEVENT
SUMMARY:Reunions veïnals d'Arenys de Mar
DTSTART;TZID=Europe/Madrid;VALUE=DATE-TIME:20170125T190000
DTEND;TZID=Europe/Madrid;VALUE=DATE-TIME:20170125T200000
DTSTAMP;VALUE=DATE-TIME:20260421T171325Z
UID:788e3f287faf436914f3bc1f98afe4ab
CREATED;VALUE=DATE-TIME:20170125T000000Z
CATEGORIES:Conferència
LOCATION:Sala d'Actes de l'Ajuntament - Riera Bisbe Pol, 8
ORGANIZER:Regidoria de Participació
DESCRIPTION:Les Carolines, Rial d'en Botifarra i Horta del Pilar
URL:https://arenysdemar.cat/document.php?id=32548
END:VEVENT
END:VCALENDAR