BEGIN:VCALENDAR
VERSION:2.0
PRODID:-//Plone.org//NONSGML plone.app.event//EN
X-WR-TIMEZONE:Europe/Madrid
BEGIN:VEVENT
SUMMARY:Fira d'Artesania
DTSTART;TZID=Europe/Madrid;VALUE=DATE-TIME:20170402T100000
DTEND;TZID=Europe/Madrid;VALUE=DATE-TIME:20170402T110000
DTSTAMP;VALUE=DATE-TIME:20260423T105546Z
UID:d38561d39fe6f7108720ca981e3fd327
CREATED;VALUE=DATE-TIME:20170402T000000Z
CATEGORIES:Mostra
LOCATION:Part baixa de la Riera
ORGANIZER:Associació Col·leccionisme Nou i Vell (Crisàlide)
COMMENT:Preu: Gratuït
Durada: fins a les 15h
URL:https://arenysdemar.cat/document.php?id=32551
END:VEVENT
END:VCALENDAR