BEGIN:VCALENDAR
VERSION:2.0
PRODID:-//Plone.org//NONSGML plone.app.event//EN
X-WR-TIMEZONE:Europe/Madrid
BEGIN:VEVENT
SUMMARY:Fira d'Artesania
DTSTART;TZID=Europe/Madrid;VALUE=DATE-TIME:20170604T100000
DTEND;TZID=Europe/Madrid;VALUE=DATE-TIME:20170604T110000
DTSTAMP;VALUE=DATE-TIME:20260420T081419Z
UID:594d5f18a338f9c61606eae6b0e27526
CREATED;VALUE=DATE-TIME:20170604T000000Z
CATEGORIES:Mostra
LOCATION:Part baixa de la Riera
ORGANIZER:Associació Col·leccionisme Nou i Vell (Crisàlide)
COMMENT:Preu: Gratuït
Durada: Tot el dia
URL:https://arenysdemar.cat/document.php?id=32555
END:VEVENT
END:VCALENDAR