BEGIN:VCALENDAR
VERSION:2.0
PRODID:-//Plone.org//NONSGML plone.app.event//EN
X-WR-TIMEZONE:Europe/Madrid
BEGIN:VEVENT
SUMMARY:Fira d'Artesania
DTSTART;TZID=Europe/Madrid;VALUE=DATE-TIME:20171203T100000
DTEND;TZID=Europe/Madrid;VALUE=DATE-TIME:20171203T110000
DTSTAMP;VALUE=DATE-TIME:20260422T010653Z
UID:f043e769bb7101de4ea2e2d68238b510
CREATED;VALUE=DATE-TIME:20171203T000000Z
CATEGORIES:Mostra
LOCATION:Part baixa de la Riera
ORGANIZER:Associació Col·leccionisme Nou i Vell (Crisàlide)
COMMENT:Preu: Gratuït
Durada: Tot el dia. Fins a les 15h
URL:https://arenysdemar.cat/document.php?id=32561
END:VEVENT
END:VCALENDAR