BEGIN:VCALENDAR
VERSION:2.0
PRODID:-//Plone.org//NONSGML plone.app.event//EN
X-WR-TIMEZONE:Europe/Madrid
BEGIN:VEVENT
SUMMARY:Xocolatada
DTSTART;TZID=Europe/Madrid;VALUE=DATE-TIME:20170223T180000
DTEND;TZID=Europe/Madrid;VALUE=DATE-TIME:20170223T190000
DTSTAMP;VALUE=DATE-TIME:20260423T181245Z
UID:711be9207c9a780be594327c2362b8b8
CREATED;VALUE=DATE-TIME:20170223T000000Z
CATEGORIES:Festa
LOCATION:Pati del C.C.Calisay - Riera del Pare Fita, 31
ORGANIZER:Regidoria de Festes
URL:https://arenysdemar.cat/document.php?id=32607
END:VEVENT
END:VCALENDAR