BEGIN:VCALENDAR
VERSION:2.0
PRODID:-//Plone.org//NONSGML plone.app.event//EN
X-WR-TIMEZONE:Europe/Madrid
BEGIN:VEVENT
SUMMARY:Hora del conte de Carnaval 
DTSTART;TZID=Europe/Madrid;VALUE=DATE-TIME:20170223T190000
DTEND;TZID=Europe/Madrid;VALUE=DATE-TIME:20170223T200000
DTSTAMP;VALUE=DATE-TIME:20260423T163544Z
UID:8f457a40a5f9e10348c86c18e0dc98de
CREATED;VALUE=DATE-TIME:20170223T000000Z
CATEGORIES:Infantils
LOCATION:Sala Josep Maria Arnau del C.C.Calisay - Riera del Pare Fita, 31
ORGANIZER:Regidoria de Festes
DESCRIPTION:a càrrec d'Albert Estengre
URL:https://arenysdemar.cat/document.php?id=32609
END:VEVENT
END:VCALENDAR