BEGIN:VCALENDAR
VERSION:2.0
PRODID:-//Plone.org//NONSGML plone.app.event//EN
X-WR-TIMEZONE:Europe/Madrid
BEGIN:VEVENT
SUMMARY:Taller de ninots de Guineu
DTSTART;TZID=Europe/Madrid;VALUE=DATE-TIME:20170223T170000
DTEND;TZID=Europe/Madrid;VALUE=DATE-TIME:20170223T180000
DTSTAMP;VALUE=DATE-TIME:20260420T153556Z
UID:5829f79f79dcd7a1c289d76a22ac59dd
CREATED;VALUE=DATE-TIME:20170223T000000Z
CATEGORIES:Infantils
LOCATION:Pati del C.C.Calisay - Riera del Pare Fita, 31
ORGANIZER:Regidoria de Festes, APCAM i família Joan de Guineu
URL:https://arenysdemar.cat/document.php?id=32619
END:VEVENT
END:VCALENDAR