BEGIN:VCALENDAR
VERSION:2.0
PRODID:-//Plone.org//NONSGML plone.app.event//EN
X-WR-TIMEZONE:Europe/Madrid
BEGIN:VEVENT
SUMMARY:35a. Fira del solstici
DTSTART;TZID=Europe/Madrid;VALUE=DATE-TIME:20170623T170000
DTEND;TZID=Europe/Madrid;VALUE=DATE-TIME:20170623T180000
DTSTAMP;VALUE=DATE-TIME:20260420T101949Z
UID:0716a6b3257ae450b9180d37a95097b6
CREATED;VALUE=DATE-TIME:20170623T000000Z
CATEGORIES:Mostra
LOCATION:Riera zona nova coberta
ORGANIZER:Associació Fira del Solstici
COMMENT:Durada: Fins al 25 de juny
URL:https://arenysdemar.cat/document.php?id=32628
END:VEVENT
END:VCALENDAR