BEGIN:VCALENDAR
VERSION:2.0
PRODID:-//Plone.org//NONSGML plone.app.event//EN
X-WR-TIMEZONE:Europe/Madrid
BEGIN:VEVENT
SUMMARY:Inscripcions per anar a la Passió d'Olesa
DTSTART;TZID=Europe/Madrid;VALUE=DATE-TIME:20170218T110000
DTEND;TZID=Europe/Madrid;VALUE=DATE-TIME:20170218T120000
DTSTAMP;VALUE=DATE-TIME:20260424T043609Z
UID:ed18f351819c7e8409deb15f26e7ed11
CREATED;VALUE=DATE-TIME:20170218T000000Z
CATEGORIES:Teatre
LOCATION:Sala Bótes del CC Calisay - Riera del Pare Fita, 31
ORGANIZER:Urban Events Barcelona
COMMENT:Preu: 45&euro; adults, 22&euro; nens (de 7 a 13 anys) i 15&euro; nens (de 0 a 6 anys)
Durada: Cada dissabte d'11:00 a 13:30 fins al 18 de Març
URL:https://arenysdemar.cat/document.php?id=32661
END:VEVENT
END:VCALENDAR