BEGIN:VCALENDAR
VERSION:2.0
PRODID:-//Plone.org//NONSGML plone.app.event//EN
X-WR-TIMEZONE:Europe/Madrid
BEGIN:VEVENT
SUMMARY:Hora del conte: Especial Dia de la Dona Treballadora
DTSTART;TZID=Europe/Madrid;VALUE=DATE-TIME:20170309T180000
DTEND;TZID=Europe/Madrid;VALUE=DATE-TIME:20170309T190000
DTSTAMP;VALUE=DATE-TIME:20260420T185347Z
UID:8b137cea5b5432acd7bd6e3ce14dff4d
CREATED;VALUE=DATE-TIME:20170309T000000Z
CATEGORIES:Infantils
LOCATION:Sala d'Actes de la Biblioteca - C. Bonaire, 2
ORGANIZER:Biblioteca - Regidoria de Cultura
URL:https://arenysdemar.cat/document.php?id=32668
END:VEVENT
END:VCALENDAR