BEGIN:VCALENDAR
VERSION:2.0
PRODID:-//Plone.org//NONSGML plone.app.event//EN
X-WR-TIMEZONE:Europe/Madrid
BEGIN:VEVENT
SUMMARY:Inauguració de l'exposició: Eugeni Forcano i la moda dels 60
DTSTART;TZID=Europe/Madrid;VALUE=DATE-TIME:20170303T200000
DTEND;TZID=Europe/Madrid;VALUE=DATE-TIME:20170303T210000
DTSTAMP;VALUE=DATE-TIME:20260420T081659Z
UID:7deffc6ce1cf1a35d5702c55f8ec7346
CREATED;VALUE=DATE-TIME:20170303T000000Z
CATEGORIES:Exposició
LOCATION:Sala Exposicions del C.C.Calisay - Riera del Pare Fita, 31
ORGANIZER:Ajuntament d'Arenys de Mar, Ajuntament de Canet de Mar i la Casa Museu Lluís Domènech Muntaner
COMMENT:Durada: fins al 26 de març
URL:https://arenysdemar.cat/document.php?id=32708
END:VEVENT
END:VCALENDAR