BEGIN:VCALENDAR
VERSION:2.0
PRODID:-//Plone.org//NONSGML plone.app.event//EN
X-WR-TIMEZONE:Europe/Madrid
BEGIN:VEVENT
SUMMARY:Visita guiada a l'exposició: Eugeni Forcano i la moda dels anys 60
DTSTART;TZID=Europe/Madrid;VALUE=DATE-TIME:20170325T190000
DTEND;TZID=Europe/Madrid;VALUE=DATE-TIME:20170325T200000
DTSTAMP;VALUE=DATE-TIME:20260420T145036Z
UID:9b7497eeb7933959a892b9618dc021b6
CREATED;VALUE=DATE-TIME:20170325T000000Z
CATEGORIES:Mostra
LOCATION:Sala Exposicions del C.C.Calisay - Riera del Pare Fita, 31
ORGANIZER:Ajuntament d'Arenys de Mar, Ajuntament de Canet de Mar i la Casa Museu Lluís Domènech Muntaner
URL:https://arenysdemar.cat/document.php?id=32709
END:VEVENT
END:VCALENDAR