BEGIN:VCALENDAR
VERSION:2.0
PRODID:-//Plone.org//NONSGML plone.app.event//EN
X-WR-TIMEZONE:Europe/Madrid
BEGIN:VEVENT
SUMMARY:Curs Joan Vives d'història de la música
DTSTART;TZID=Europe/Madrid;VALUE=DATE-TIME:20170404T200000
DTEND;TZID=Europe/Madrid;VALUE=DATE-TIME:20170404T210000
DTSTAMP;VALUE=DATE-TIME:20260424T094032Z
UID:bc8a39d8bf1ca5df2418ce6044a9a6c0
CREATED;VALUE=DATE-TIME:20170404T000000Z
CATEGORIES:Cursos,Música,Conferència
LOCATION:Sala Noble del C.C.Calisay - Riera Pare Fita, 31
ORGANIZER:Escola de Música d'Arenys de Mar
COMMENT:Preu: 40&euro; el curs sencer (30&euro; per als socis de l'Escola) - 12&euro; les sessions individuals
DESCRIPTION:3a xerrada: l'altra cara de la música russa
URL:https://arenysdemar.cat/document.php?id=32711
END:VEVENT
END:VCALENDAR