BEGIN:VCALENDAR
VERSION:2.0
PRODID:-//Plone.org//NONSGML plone.app.event//EN
X-WR-TIMEZONE:Europe/Madrid
BEGIN:VEVENT
SUMMARY:Assemblea anual de socis
DTSTART;TZID=Europe/Madrid;VALUE=DATE-TIME:20170316T173000
DTEND;TZID=Europe/Madrid;VALUE=DATE-TIME:20170316T183000
DTSTAMP;VALUE=DATE-TIME:20260420T184225Z
UID:85bd87ea4beb90e573a0494567d492ea
CREATED;VALUE=DATE-TIME:20170316T000000Z
LOCATION:Esplai/C.C.Calisay - Riera del Pare Fita, 31
ORGANIZER:Esplai de la Gent Gran
URL:https://arenysdemar.cat/document.php?id=32715
END:VEVENT
END:VCALENDAR