BEGIN:VCALENDAR
VERSION:2.0
PRODID:-//Plone.org//NONSGML plone.app.event//EN
X-WR-TIMEZONE:Europe/Madrid
BEGIN:VEVENT
SUMMARY:Passejada cultural per Barcelona
DTSTART;TZID=Europe/Madrid;VALUE=DATE-TIME:20170302T080000
DTEND;TZID=Europe/Madrid;VALUE=DATE-TIME:20170302T090000
DTSTAMP;VALUE=DATE-TIME:20260423T233114Z
UID:5f568a37243b1c3d9bf989f72c5400bd
CREATED;VALUE=DATE-TIME:20170302T000000Z
LOCATION:Sortida de l'Estació de Renfe
ORGANIZER:Esplai de la Gent Gran
DESCRIPTION:Rambla i Palau Güell
URL:https://arenysdemar.cat/document.php?id=32716
END:VEVENT
END:VCALENDAR