BEGIN:VCALENDAR
VERSION:2.0
PRODID:-//Plone.org//NONSGML plone.app.event//EN
X-WR-TIMEZONE:Europe/Madrid
BEGIN:VEVENT
SUMMARY:Voluntariat per la llengua
DTSTART;TZID=Europe/Madrid;VALUE=DATE-TIME:20170228T190000
DTEND;TZID=Europe/Madrid;VALUE=DATE-TIME:20170228T200000
DTSTAMP;VALUE=DATE-TIME:20260421T050334Z
UID:afd7cdc4a8b167c62973e7a194dcb222
CREATED;VALUE=DATE-TIME:20170228T000000Z
LOCATION:Sala d'Actes de la Biblioteca - C. Bonaire, 2
ORGANIZER:Servei Municipal de Català / Consorci per a la Normalització Lingüística
DESCRIPTION:Presentació de les parelles lingüístiques
URL:https://arenysdemar.cat/document.php?id=32734
END:VEVENT
END:VCALENDAR