BEGIN:VCALENDAR
VERSION:2.0
PRODID:-//Plone.org//NONSGML plone.app.event//EN
X-WR-TIMEZONE:Europe/Madrid
BEGIN:VEVENT
SUMMARY:12a Jornada d'Atletisme a la Platja
DTSTART;TZID=Europe/Madrid;VALUE=DATE-TIME:20170401T103000
DTEND;TZID=Europe/Madrid;VALUE=DATE-TIME:20170401T113000
DTSTAMP;VALUE=DATE-TIME:20260423T115345Z
UID:ffa24e4a896452b17795a8d1dffddbf6
CREATED;VALUE=DATE-TIME:20170401T000000Z
CATEGORIES:Esports
LOCATION:Platja Picòrdia
ORGANIZER:Regidoria d'Esports
URL:https://arenysdemar.cat/document.php?id=32735
END:VEVENT
END:VCALENDAR