BEGIN:VCALENDAR
VERSION:2.0
PRODID:-//Plone.org//NONSGML plone.app.event//EN
X-WR-TIMEZONE:Europe/Madrid
BEGIN:VEVENT
SUMMARY:Conferència: Arenys de Mar en temps de guerra (1705-1714). Lluita i repressió: els morts de Can Mils
DTSTART;TZID=Europe/Madrid;VALUE=DATE-TIME:20170317T190000
DTEND;TZID=Europe/Madrid;VALUE=DATE-TIME:20170317T200000
DTSTAMP;VALUE=DATE-TIME:20260420T212053Z
UID:9f29425dd333eea8ecd0fb234093bc41
CREATED;VALUE=DATE-TIME:20170317T000000Z
CATEGORIES:Conferència
LOCATION:Ateneu Arenyenc - Anselm Clavé, 22
ORGANIZER:Ateneu Arenyenc
COMMENT:Preu: Gratuït
DESCRIPTION:amb Francesc Forn
URL:https://arenysdemar.cat/document.php?id=32737
END:VEVENT
END:VCALENDAR