BEGIN:VCALENDAR
VERSION:2.0
PRODID:-//Plone.org//NONSGML plone.app.event//EN
X-WR-TIMEZONE:Europe/Madrid
BEGIN:VEVENT
SUMMARY:Hora del conte especial en commemoració del Dia Internacional del Llibre Infantil i Juvenil: Petits grans contes d'Andersen
DTSTART;TZID=Europe/Madrid;VALUE=DATE-TIME:20170330T180000
DTEND;TZID=Europe/Madrid;VALUE=DATE-TIME:20170330T190000
DTSTAMP;VALUE=DATE-TIME:20260422T184707Z
UID:4597b6d08d8c2cf145d16585bcd464c1
CREATED;VALUE=DATE-TIME:20170330T000000Z
CATEGORIES:Literatura,Infantils
LOCATION:Sala d'Actes de la Biblioteca - C. Bonaire, 2
ORGANIZER:Biblioteca - Regidoria de Cultura
DESCRIPTION:a càrrec d'Anna Danés
URL:https://arenysdemar.cat/document.php?id=32748
END:VEVENT
END:VCALENDAR