BEGIN:VCALENDAR
VERSION:2.0
PRODID:-//Plone.org//NONSGML plone.app.event//EN
X-WR-TIMEZONE:Europe/Madrid
BEGIN:VEVENT
SUMMARY:Taula rodona: Dones emprenedores, dones treballadores
DTSTART;TZID=Europe/Madrid;VALUE=DATE-TIME:20170311T180000
DTEND;TZID=Europe/Madrid;VALUE=DATE-TIME:20170311T190000
DTSTAMP;VALUE=DATE-TIME:20260424T094706Z
UID:d0296710140c4301f4d322762c810704
CREATED;VALUE=DATE-TIME:20170311T000000Z
CATEGORIES:Conferència
LOCATION:Sala Noble del C.C.Calisay - Riera Pare Fita, 31
ORGANIZER:Regidoria de Drets Civils
DESCRIPTION:Acte en el marc del Dia Internacional de les Dones
URL:https://arenysdemar.cat/document.php?id=32750
END:VEVENT
END:VCALENDAR