BEGIN:VCALENDAR
VERSION:2.0
PRODID:-//Plone.org//NONSGML plone.app.event//EN
X-WR-TIMEZONE:Europe/Madrid
BEGIN:VEVENT
SUMMARY:Actes en el marc del Dia Internacional de les Dones
DTSTART;TZID=Europe/Madrid;VALUE=DATE-TIME:20170308T190000
DTEND;TZID=Europe/Madrid;VALUE=DATE-TIME:20170308T200000
DTSTAMP;VALUE=DATE-TIME:20260420T171250Z
UID:4d35aaa29ec9cbca237328fc17bc205a
CREATED;VALUE=DATE-TIME:20170308T000000Z
CATEGORIES:Literatura
LOCATION:Sala de Plens de l'Ajuntament
ORGANIZER:Regidoria de Drets Civils
DESCRIPTION:Treballant en igualtat
URL:https://arenysdemar.cat/document.php?id=32751
END:VEVENT
END:VCALENDAR