BEGIN:VCALENDAR
VERSION:2.0
PRODID:-//Plone.org//NONSGML plone.app.event//EN
X-WR-TIMEZONE:Europe/Madrid
BEGIN:VEVENT
SUMMARY:Concert de Sant Zenon 2017
DTSTART;TZID=Europe/Madrid;VALUE=DATE-TIME:20170701T220000
DTEND;TZID=Europe/Madrid;VALUE=DATE-TIME:20170701T230000
DTSTAMP;VALUE=DATE-TIME:20260422T130522Z
UID:40e3ee1d1c677525b883941f99cfe969
CREATED;VALUE=DATE-TIME:20170701T000000Z
CATEGORIES:Música
LOCATION:Església de Santa Maria - Plaça de l'Església
ORGANIZER:Cor l'Aixa
COMMENT:Preu: 12 euros
URL:https://arenysdemar.cat/document.php?id=32765
END:VEVENT
END:VCALENDAR