BEGIN:VCALENDAR
VERSION:2.0
PRODID:-//Plone.org//NONSGML plone.app.event//EN
X-WR-TIMEZONE:Europe/Madrid
BEGIN:VEVENT
SUMMARY:XXIII Trobada de Puntaires
DTSTART;TZID=Europe/Madrid;VALUE=DATE-TIME:20170430T100000
DTEND;TZID=Europe/Madrid;VALUE=DATE-TIME:20170430T110000
DTSTAMP;VALUE=DATE-TIME:20260420T185828Z
UID:bc5e9e875ecba2d1e795434cc5181690
CREATED;VALUE=DATE-TIME:20170430T000000Z
CATEGORIES:Mostra
LOCATION:Riera, davant del C.C. Calisay
COMMENT:Durada: Fins a les 14h
URL:https://arenysdemar.cat/document.php?id=32781
END:VEVENT
END:VCALENDAR