BEGIN:VCALENDAR
VERSION:2.0
PRODID:-//Plone.org//NONSGML plone.app.event//EN
X-WR-TIMEZONE:Europe/Madrid
BEGIN:VEVENT
SUMMARY:Presentació marca producte d'Arenys - És d'aquí, és d'Arenys
DTSTART;TZID=Europe/Madrid;VALUE=DATE-TIME:20170311T210000
DTEND;TZID=Europe/Madrid;VALUE=DATE-TIME:20170311T220000
DTSTAMP;VALUE=DATE-TIME:20260422T185540Z
UID:94a326877fc9676190f56f8bc648b61f
CREATED;VALUE=DATE-TIME:20170311T000000Z
CATEGORIES:Exposició,Mostra
LOCATION:Sala Polivalent del C.C.Calisay - Riera Pare Fita, 31
ORGANIZER:Cooperativa Agrària l'Aranyó
COMMENT:Preu: 12 &euro;
Durada: Fins a les 23h
DESCRIPTION:Sopar popular
URL:https://arenysdemar.cat/document.php?id=32782
END:VEVENT
END:VCALENDAR