BEGIN:VCALENDAR
VERSION:2.0
PRODID:-//Plone.org//NONSGML plone.app.event//EN
X-WR-TIMEZONE:Europe/Madrid
BEGIN:VEVENT
SUMMARY:Taller de puntes amb fils metàl·lics
DTSTART;TZID=Europe/Madrid;VALUE=DATE-TIME:20170403T160000
DTEND;TZID=Europe/Madrid;VALUE=DATE-TIME:20170403T170000
DTSTAMP;VALUE=DATE-TIME:20260424T030559Z
UID:7bdb035f57519673ee8d7933090713a6
CREATED;VALUE=DATE-TIME:20170403T000000Z
CATEGORIES:Cursos
LOCATION:Aula d'entitats del C.C. Calisay - Riera Pare Fita, 31
ORGANIZER:Ajuntament d'Arenys de Mar - Museu d'Arenys de Mar
COMMENT:Preu: A consultar al Museu d'Arenys de Mar, 937924444
Durada: Fins al dia 6 d'abril
DESCRIPTION:Impartit per Jana Frajkorová, puntaire d'Eslovàquia
URL:https://arenysdemar.cat/document.php?id=32820
END:VEVENT
END:VCALENDAR