BEGIN:VCALENDAR
VERSION:2.0
PRODID:-//Plone.org//NONSGML plone.app.event//EN
X-WR-TIMEZONE:Europe/Madrid
BEGIN:VEVENT
SUMMARY:Lliurament de l'Arenyenc de l'Any 2016 a Joan Bertran Llavina
DTSTART;TZID=Europe/Madrid;VALUE=DATE-TIME:20170422T190000
DTEND;TZID=Europe/Madrid;VALUE=DATE-TIME:20170422T200000
DTSTAMP;VALUE=DATE-TIME:20260424T024108Z
UID:0e6a68b13ce7738d4edd5fb00dbc5e1b
CREATED;VALUE=DATE-TIME:20170422T000000Z
CATEGORIES:Conferència
LOCATION:Sala d'Actes de la Biblioteca - C. Bonaire, 2
ORGANIZER:Associació d'Informadors d'Arenys - l'AIA-
COMMENT:Durada: 1 hora
DESCRIPTION:presentat per la periodista Marisa Montes, membre de l'AIA
URL:https://arenysdemar.cat/document.php?id=32825
END:VEVENT
END:VCALENDAR