BEGIN:VCALENDAR
VERSION:2.0
PRODID:-//Plone.org//NONSGML plone.app.event//EN
X-WR-TIMEZONE:Europe/Madrid
BEGIN:VEVENT
SUMMARY:Converses a la carta en alemany. Gespräche nach Wahl
DTSTART;TZID=Europe/Madrid;VALUE=DATE-TIME:20170406T190000
DTEND;TZID=Europe/Madrid;VALUE=DATE-TIME:20170406T200000
DTSTAMP;VALUE=DATE-TIME:20260424T213813Z
UID:4de6d40cef6a67f1ab4ad4e363415612
CREATED;VALUE=DATE-TIME:20170406T000000Z
CATEGORIES:Literatura
LOCATION:Sala d'Actes de la Biblioteca - C. Bonaire, 2
ORGANIZER:Biblioteca - Regidoria de Cultura
DESCRIPTION:a càrrec d'Eva Puigventós
URL:https://arenysdemar.cat/document.php?id=32849
END:VEVENT
END:VCALENDAR