BEGIN:VCALENDAR
VERSION:2.0
PRODID:-//Plone.org//NONSGML plone.app.event//EN
X-WR-TIMEZONE:Europe/Madrid
BEGIN:VEVENT
SUMMARY:Representació de la llegenda de Sant Jordi
DTSTART;TZID=Europe/Madrid;VALUE=DATE-TIME:20170423T180000
DTEND;TZID=Europe/Madrid;VALUE=DATE-TIME:20170423T190000
DTSTAMP;VALUE=DATE-TIME:20260420T164418Z
UID:c728ac600f4e84c40017e7ebbb99f80f
CREATED;VALUE=DATE-TIME:20170423T000000Z
CATEGORIES:Festa,Infantils
LOCATION:Porxada de la Plaça del Mercat - Riera Bisbe Pol, 82
ORGANIZER:Associació de Geganters d'Arenys de Mar i Associació de Pubillatge Arenyenc
DESCRIPTION:amb el drac Arenyot
URL:https://arenysdemar.cat/document.php?id=32873
END:VEVENT
END:VCALENDAR