BEGIN:VCALENDAR
VERSION:2.0
PRODID:-//Plone.org//NONSGML plone.app.event//EN
X-WR-TIMEZONE:Europe/Madrid
BEGIN:VEVENT
SUMMARY:Celebrem el Dia Internacional de la Dansa
DTSTART;TZID=Europe/Madrid;VALUE=DATE-TIME:20170429T100000
DTEND;TZID=Europe/Madrid;VALUE=DATE-TIME:20170429T110000
DTSTAMP;VALUE=DATE-TIME:20260423T144621Z
UID:ce134439de9d92b552a303bc029d74ec
CREATED;VALUE=DATE-TIME:20170429T000000Z
CATEGORIES:Dansa
LOCATION:Teatre Principal - C. Església, 45-47
ORGANIZER:Regidoria de Cultura i Escola de Ballet d'Arenys
COMMENT:Durada: Matí de 10 a 13h
DESCRIPTION:a càrrec de l'Escola de Ballet d'Arenys
URL:https://arenysdemar.cat/document.php?id=32876
END:VEVENT
END:VCALENDAR