BEGIN:VCALENDAR
VERSION:2.0
PRODID:-//Plone.org//NONSGML plone.app.event//EN
X-WR-TIMEZONE:Europe/Madrid
BEGIN:VEVENT
SUMMARY:Música a la Fira d'Indians
DTSTART;TZID=Europe/Madrid;VALUE=DATE-TIME:20170507T193000
DTEND;TZID=Europe/Madrid;VALUE=DATE-TIME:20170507T203000
DTSTAMP;VALUE=DATE-TIME:20260423T144802Z
UID:78b00dd22ede922727cdef272973d06a
CREATED;VALUE=DATE-TIME:20170507T000000Z
CATEGORIES:Música
LOCATION:Plaça de l'Església - Plaça de l'Església
ORGANIZER:Comissió Fira del Solstici
DESCRIPTION:amb la Cultural de Granollers
URL:https://arenysdemar.cat/document.php?id=32939
END:VEVENT
END:VCALENDAR