BEGIN:VCALENDAR
VERSION:2.0
PRODID:-//Plone.org//NONSGML plone.app.event//EN
X-WR-TIMEZONE:Europe/Madrid
BEGIN:VEVENT
SUMMARY:2ones OlimpiAMPES
DTSTART;TZID=Europe/Madrid;VALUE=DATE-TIME:20170430T100000
DTEND;TZID=Europe/Madrid;VALUE=DATE-TIME:20170430T110000
DTSTAMP;VALUE=DATE-TIME:20260421T203842Z
UID:983e01b40b25d717ceca03d3803276eb
CREATED;VALUE=DATE-TIME:20170430T000000Z
CATEGORIES:Esports,Infantils
LOCATION:Pistes de l'Escola Joan Maragall
ORGANIZER:AMPA Escola Joan Maragall
COMMENT:Durada: fins a les 2 del migdia
DESCRIPTION:Futbol Sala a l'Escola Joan Maragall
URL:https://arenysdemar.cat/document.php?id=32987
END:VEVENT
END:VCALENDAR