BEGIN:VCALENDAR
VERSION:2.0
PRODID:-//Plone.org//NONSGML plone.app.event//EN
X-WR-TIMEZONE:Europe/Madrid
BEGIN:VEVENT
SUMMARY:Learning with books. Advanced. Atonement, by Ian McEwan
DTSTART;TZID=Europe/Madrid;VALUE=DATE-TIME:20170519T200000
DTEND;TZID=Europe/Madrid;VALUE=DATE-TIME:20170519T210000
DTSTAMP;VALUE=DATE-TIME:20260423T210808Z
UID:ee2fcb6f246558685bd2cc22d7b53b77
CREATED;VALUE=DATE-TIME:20170519T000000Z
CATEGORIES:Cursos,Literatura
LOCATION:Biblioteca - Bonaire, 2
ORGANIZER:Biblioteca - Regidoria de Cultura i Sakkara Viatges
DESCRIPTION:a càrrec de Manuel Delgado
URL:https://arenysdemar.cat/document.php?id=33027
END:VEVENT
END:VCALENDAR