BEGIN:VCALENDAR
VERSION:2.0
PRODID:-//Plone.org//NONSGML plone.app.event//EN
X-WR-TIMEZONE:Europe/Madrid
BEGIN:VEVENT
SUMMARY:36a Mostra Literària d'Arenys de Mar. Premis Mn. Martí Amagat
DTSTART;TZID=Europe/Madrid;VALUE=DATE-TIME:20170528T180000
DTEND;TZID=Europe/Madrid;VALUE=DATE-TIME:20170528T190000
DTSTAMP;VALUE=DATE-TIME:20260421T082750Z
UID:3bdd9715a9e658ec1f9ed67a450cb6da
CREATED;VALUE=DATE-TIME:20170528T000000Z
CATEGORIES:Literatura
LOCATION:Sala Josep Maria Arnau del C.C.Calisay - Riera del Pare Fita, 31
ORGANIZER:Regidoria de Cultura i Regidoria d'Educació
DESCRIPTION:Lliurament de premis, amb l'Orquestrina Sinerenca de l'Escola de Música
URL:https://arenysdemar.cat/document.php?id=33050
END:VEVENT
END:VCALENDAR