BEGIN:VCALENDAR
VERSION:2.0
PRODID:-//Plone.org//NONSGML plone.app.event//EN
X-WR-TIMEZONE:Europe/Madrid
BEGIN:VEVENT
SUMMARY:#ARENYS1714
DTSTART;TZID=Europe/Madrid;VALUE=DATE-TIME:20170521T140000
DTEND;TZID=Europe/Madrid;VALUE=DATE-TIME:20170521T150000
DTSTAMP;VALUE=DATE-TIME:20260421T050238Z
UID:0c8f14099cdc6ecfae74f5b7fbfc8b4d
CREATED;VALUE=DATE-TIME:20170520T000000Z
LOCATION:Platja Picòrdia
ORGANIZER:Ajuntament d'Arenys de Mar i Arenys.org - El Moll
COMMENT:Durada: També diumenge 21 fins a les 2 del migdia
DESCRIPTION:Jornades de recreació històrica de la Guerra de Successió
URL:https://arenysdemar.cat/document.php?id=33053
END:VEVENT
END:VCALENDAR