BEGIN:VCALENDAR
VERSION:2.0
PRODID:-//Plone.org//NONSGML plone.app.event//EN
X-WR-TIMEZONE:Europe/Madrid
BEGIN:VEVENT
SUMMARY:Ruta guiada Història i Tradicions
DTSTART;TZID=Europe/Madrid;VALUE=DATE-TIME:20170716T110000
DTEND;TZID=Europe/Madrid;VALUE=DATE-TIME:20170716T120000
DTSTAMP;VALUE=DATE-TIME:20260421T184410Z
UID:83c05bf54aec4c15eae30148d9211a96
CREATED;VALUE=DATE-TIME:20170716T000000Z
CATEGORIES:Mostra
LOCATION:Plaça de l'Església - Plaça de l'Església
ORGANIZER:Ajuntament d'Arenys de Mar
COMMENT:Preu: Gratuïta. Inscripció prèvia a l´Oficina de Turisme: turisme@arenysdemar.cat o al 937957039
Durada: Durada aproximada de dues hores
URL:https://arenysdemar.cat/document.php?id=33063
END:VEVENT
END:VCALENDAR