BEGIN:VCALENDAR
VERSION:2.0
PRODID:-//Plone.org//NONSGML plone.app.event//EN
X-WR-TIMEZONE:Europe/Madrid
BEGIN:VEVENT
SUMMARY:Ball del dissabte
DTSTART;TZID=Europe/Madrid;VALUE=DATE-TIME:20170603T230000
DTEND;TZID=Europe/Madrid;VALUE=DATE-TIME:20170604T000000
DTSTAMP;VALUE=DATE-TIME:20260421T203933Z
UID:b97b99d852c1f70150bb6815b29901fb
CREATED;VALUE=DATE-TIME:20170603T000000Z
CATEGORIES:Festa,Música
LOCATION:Ateneu Arenyenc - Anselm Clavé, 22
ORGANIZER:Ateneu Arenyenc
COMMENT:Preu: Soci 5 euros i no soci 7 euros
DESCRIPTION:amb l'actuació del Duet Dominó
URL:https://arenysdemar.cat/document.php?id=33152
END:VEVENT
END:VCALENDAR