BEGIN:VCALENDAR
VERSION:2.0
PRODID:-//Plone.org//NONSGML plone.app.event//EN
X-WR-TIMEZONE:Europe/Madrid
BEGIN:VEVENT
SUMMARY:Participa a l'European Clean Up Day! Netegem el nostre entorn
DTSTART;TZID=Europe/Madrid;VALUE=DATE-TIME:20170513T100000
DTEND;TZID=Europe/Madrid;VALUE=DATE-TIME:20170513T110000
DTSTAMP;VALUE=DATE-TIME:20260420T150715Z
UID:e635555e82e9c1177cb4ee8c0d13b338
CREATED;VALUE=DATE-TIME:20170513T000000Z
CATEGORIES:Festa
LOCATION:Punt de trobada: zona pícnic del Rial de la Serp
ORGANIZER:Ajuntament d'Arenys de Mar
COMMENT:Durada: 3 h
DESCRIPTION:Setmana europea de la prevenció de residus
URL:https://arenysdemar.cat/document.php?id=33171
END:VEVENT
END:VCALENDAR