BEGIN:VCALENDAR
VERSION:2.0
PRODID:-//Plone.org//NONSGML plone.app.event//EN
X-WR-TIMEZONE:Europe/Madrid
BEGIN:VEVENT
SUMMARY:Conferència d'Història Antiga: La Creta antiga. Els secrets del Laberint del Minotaure
DTSTART;TZID=Europe/Madrid;VALUE=DATE-TIME:20170606T180000
DTEND;TZID=Europe/Madrid;VALUE=DATE-TIME:20170606T190000
DTSTAMP;VALUE=DATE-TIME:20260420T081545Z
UID:5ffa16594cfc1fafc557431f221ac6d8
CREATED;VALUE=DATE-TIME:20170606T000000Z
CATEGORIES:Conferència
LOCATION:Sala Josep Maria Arnau del C.C.Calisay - Riera del Pare Fita, 31
ORGANIZER:Aula d'Extensió Universitària
DESCRIPTION:a càrrec de Carles Buenacasa de la Universitat de Barcelona
URL:https://arenysdemar.cat/document.php?id=33178
END:VEVENT
END:VCALENDAR